BEGIN:VCALENDAR
VERSION:2.0
PRODID:-//eventon.com NONSGML v1.0//EN
CALSCALE:GREGORIAN
METHOD:PUBLISH
BEGIN:VEVENT
UID:69ecb8a160f8e
DTSTAMP:20260425T125041Z
DTSTART:20260427
DTEND:20260428
LOCATION:
SUMMARY:Klassenfahrt Klasse 5
DESCRIPTION:Klassenfahrt\nhttps://raphael-schule-gelsenkirchen.de/neuigkeit
 en/klassenfahrt-klasse-5/
URL:https://raphael-schule-gelsenkirchen.de/neuigkeiten/klassenfahrt-klasse-5/
END:VEVENT
END:VCALENDAR