BEGIN:VCALENDAR
VERSION:2.0
PRODID:-//eventon.com NONSGML v1.0//EN
CALSCALE:GREGORIAN
METHOD:PUBLISH
BEGIN:VEVENT
UID:69e5f4bc6d989
DTSTAMP:20260420T094116Z
DTSTART:20260204T083000Z
DTEND:20260204T235900Z
LOCATION:
SUMMARY:Auswertung der Potententialanalyse Extern
DESCRIPTION:Auswertung des KAO Elements durch das K&amp;G Fachzentrum Klass
 e 9 8.30-14.30 Uhr.\nhttps://raphael-schule-gelsenkirchen.de/neuigkeiten/au
 swertung-der-potententialanalyse-extern/
URL:https://raphael-schule-gelsenkirchen.de/neuigkeiten/auswertung-der-potententialanalyse-extern/
END:VEVENT
END:VCALENDAR