BEGIN:VCALENDAR
VERSION:2.0
PRODID:-//eventon.com NONSGML v1.0//EN
CALSCALE:GREGORIAN
METHOD:PUBLISH
BEGIN:VEVENT
UID:69e4db1e42a81
DTSTAMP:20260419T133942Z
DTSTART:20260417T123000Z
DTEND:20260417T173000Z
LOCATION:
SUMMARY:4. Interne Fortbildung
DESCRIPTION:Ab 13.30\nhttps://raphael-schule-gelsenkirchen.de/neuigkeiten/4
 -interne-fortbildung-4/
URL:https://raphael-schule-gelsenkirchen.de/neuigkeiten/4-interne-fortbildung-4/
END:VEVENT
END:VCALENDAR