BEGIN:VCALENDAR
VERSION:2.0
PRODID:-//eventon.com NONSGML v1.0//EN
CALSCALE:GREGORIAN
METHOD:PUBLISH
BEGIN:VEVENT
UID:69eb4b291d3d0
DTSTAMP:20260424T105121Z
DTSTART:20260330
DTEND:20260331
LOCATION:
SUMMARY:Osterferien
DESCRIPTION:Es sind Ferien vom 30.03-12.04.2026.\nhttps://raphael-schule-ge
 lsenkirchen.de/neuigkeiten/osterferien/
URL:https://raphael-schule-gelsenkirchen.de/neuigkeiten/osterferien/
END:VEVENT
END:VCALENDAR