BEGIN:VCALENDAR
VERSION:2.0
PRODID:-//eventon.com NONSGML v1.0//EN
CALSCALE:GREGORIAN
METHOD:PUBLISH
BEGIN:VEVENT
UID:69e6562ae7618
DTSTAMP:20260420T163658Z
DTSTART:20260320T100000Z
DTEND:20260320T130000Z
LOCATION:
SUMMARY:Frühlingsmonatsfeier Intern
DESCRIPTION:Dies ist eine Pflichtveranstaltung. Die Klassen 1-10 nehmen tei
 l.\nhttps://raphael-schule-gelsenkirchen.de/neuigkeiten/fruehlingsmonatsfei
 er-intern-2/
URL:https://raphael-schule-gelsenkirchen.de/neuigkeiten/fruehlingsmonatsfeier-intern-2/
END:VEVENT
END:VCALENDAR