BEGIN:VCALENDAR
VERSION:2.0
PRODID:-//eventon.com NONSGML v1.0//EN
CALSCALE:GREGORIAN
METHOD:PUBLISH
BEGIN:VEVENT
UID:69e5f6482cb71
DTSTAMP:20260420T094752Z
DTSTART:20260321T100000Z
DTEND:20260321T130000Z
LOCATION:
SUMMARY:Frühlingsmonatsfeier
DESCRIPTION:Dies ist eine Pflichtveranstaltung. Die Klassen 1-10 nehmen tei
 l.\nhttps://raphael-schule-gelsenkirchen.de/neuigkeiten/fruehlingsmonatsfei
 er-intern/
URL:https://raphael-schule-gelsenkirchen.de/neuigkeiten/fruehlingsmonatsfeier-intern/
END:VEVENT
END:VCALENDAR